BEGIN:VCALENDAR
VERSION:2.0
PRODID:-//Luthando Gogela Ministries | Outreach, Healing &amp; Kingdom Revival - ECPv6.15.20//NONSGML v1.0//EN
CALSCALE:GREGORIAN
METHOD:PUBLISH
X-ORIGINAL-URL:https://luthandogogelaministries.com
X-WR-CALDESC:Events for Luthando Gogela Ministries | Outreach, Healing &amp; Kingdom Revival
REFRESH-INTERVAL;VALUE=DURATION:PT1H
X-Robots-Tag:noindex
X-PUBLISHED-TTL:PT1H
BEGIN:VTIMEZONE
TZID:Africa/Johannesburg
BEGIN:STANDARD
TZOFFSETFROM:+0200
TZOFFSETTO:+0200
TZNAME:SAST
DTSTART:20240101T000000
END:STANDARD
END:VTIMEZONE
BEGIN:VEVENT
DTSTART;TZID=Africa/Johannesburg:20250829T180000
DTEND;TZID=Africa/Johannesburg:20250830T060000
DTSTAMP:20260419T180334
CREATED:20250807T082417Z
LAST-MODIFIED:20250807T083356Z
UID:1605-1756490400-1756533600@luthandogogelaministries.com
SUMMARY:🔥🔥🔥 Miracle Service 🔥🔥🔥
DESCRIPTION:Come and experience the power of God’s presence at our  🔥🔥🔥 Miracle Service 🔥🔥🔥  in MOUNT AYLIFF (EMAXESIBENI). It’s more than an event — it’s a movement of healing\, deliverance\, and revival. All are welcome — bring a friend\, your faith\, and your expectation! 📞 WhatsApp for info: 083 230 7886
URL:https://luthandogogelaministries.com/event/%f0%9f%94%a5%f0%9f%94%a5%f0%9f%94%a5-miracle-service-%f0%9f%94%a5%f0%9f%94%a5%f0%9f%94%a5-3/
LOCATION:UMZIMVUBU TOWN HALL\, eMaxesibeni\, Eastern Cape\, 4735\, South Africa
ATTACH;FMTTYPE=image/webp:https://luthandogogelaministries.com/wp-content/uploads/2025/08/Umzimvubu_Miracle_Service.avif
ORGANIZER;CN="Luthando Gogela":MAILTO:luthando@luthandogogelaministries.com
END:VEVENT
BEGIN:VEVENT
DTSTART;TZID=Africa/Johannesburg:20250824T100000
DTEND;TZID=Africa/Johannesburg:20250824T130000
DTSTAMP:20260419T180334
CREATED:20250822T164141Z
LAST-MODIFIED:20250822T164141Z
UID:1624-1756029600-1756040400@luthandogogelaministries.com
SUMMARY:🙌✨ Family Blessing Sunday 🔥
DESCRIPTION:🙏 Come and experience the power of God’s presence at our Family Blessing Sunday in East London.\n✨ It’s more than a service — it’s a moment of blessing\, healing\, and revival for every household.\n❤️ All are welcome — bring your family\, your faith\, and your expectation! \n📞 WhatsApp for info: 083 230 7886
URL:https://luthandogogelaministries.com/event/%f0%9f%99%8c%e2%9c%a8-family-blessing-sunday-%f0%9f%94%a5/
LOCATION:Border Cricket\, 3 Buffalo Park Drive\, Arcadia\, East London\, Eastern Cape\, 5201\, South Africa
ATTACH;FMTTYPE=image/webp:https://luthandogogelaministries.com/wp-content/uploads/2025/08/Family_Blessing_Sunday.avif
ORGANIZER;CN="Luthando Gogela":MAILTO:luthando@luthandogogelaministries.com
END:VEVENT
BEGIN:VEVENT
DTSTART;TZID=Africa/Johannesburg:20250822T180000
DTEND;TZID=Africa/Johannesburg:20250823T060000
DTSTAMP:20260419T180334
CREATED:20250807T074128Z
LAST-MODIFIED:20250807T083530Z
UID:1599-1755885600-1755928800@luthandogogelaministries.com
SUMMARY:🔥🔥Night Of Breaking Chains🔥🔥
DESCRIPTION:Come and experience the power of God’s presence at our Night Of Breaking Chains in East London. It’s more than an event — it’s a movement of healing\, deliverance\, and revival. All are welcome — bring a friend\, your faith\, and your expectation! 📞 WhatsApp for info: 083 230 7886
URL:https://luthandogogelaministries.com/event/%f0%9f%94%a5%f0%9f%94%a5night-of-breaking-chains%f0%9f%94%a5%f0%9f%94%a5/
LOCATION:Border Cricket\, 3 Buffalo Park Drive\, Arcadia\, East London\, Eastern Cape\, 5201\, South Africa
ATTACH;FMTTYPE=image/webp:https://luthandogogelaministries.com/wp-content/uploads/2025/08/Night_OF_Breaking-Chains.avif
ORGANIZER;CN="Luthando Gogela":MAILTO:luthando@luthandogogelaministries.com
END:VEVENT
BEGIN:VEVENT
DTSTART;TZID=Africa/Johannesburg:20250811T200000
DTEND;TZID=Africa/Johannesburg:20250811T210000
DTSTAMP:20260419T180334
CREATED:20250807T083028Z
LAST-MODIFIED:20250807T083028Z
UID:1609-1754942400-1754946000@luthandogogelaministries.com
SUMMARY:🔥🔥🔥the-season-of-breakthrough-live-stream🔥🔥🔥
DESCRIPTION:Join us every Monday at 8PM (SAST) for “The Season of Breakthrough” — a powerful livestream filled with worship\, prayer\, and prophetic teaching. This is your time for renewal\, healing\, and spiritual breakthrough.\n\n📍 Watch Live On:\n\n\nFacebook: facebook.com/luthando.gogela.2025\n\n\nYouTube: youtube.com/@pastorluthandogogela\n\n\n📞 Call During the Stream:\n010 101 1816\n📲 WhatsApp Call Line: 083 230 7886\nChat with Us on WhatsApp\n🕊️ “The season has shifted — step into your breakthrough!”
URL:https://luthandogogelaministries.com/event/%f0%9f%94%a5%f0%9f%94%a5%f0%9f%94%a5the-season-of-breakthrough-live-stream%f0%9f%94%a5%f0%9f%94%a5%f0%9f%94%a5-3/
LOCATION:Eastern Cape
ATTACH;FMTTYPE=image/webp:https://luthandogogelaministries.com/wp-content/uploads/2025/07/Live_Stream_Poster.avif
ORGANIZER;CN="Luthando Gogela":MAILTO:luthando@luthandogogelaministries.com
END:VEVENT
BEGIN:VEVENT
DTSTART;TZID=Africa/Johannesburg:20250808T180000
DTEND;TZID=Africa/Johannesburg:20250808T210000
DTSTAMP:20260419T180334
CREATED:20250807T072858Z
LAST-MODIFIED:20250807T072927Z
UID:1592-1754676000-1754686800@luthandogogelaministries.com
SUMMARY:🔥🔥🔥Night Of Breakthrough🔥🔥🔥
DESCRIPTION:Come and experience the power of God’s presence at our Night Of Breakthrough in Vosloorus. It’s more than an event — it’s a movement of healing\, deliverance\, and revival. All are welcome — bring a friend\, your faith\, and your expectation! 📞 WhatsApp for info: 083 230 7886
URL:https://luthandogogelaministries.com/event/%f0%9f%94%a5%f0%9f%94%a5%f0%9f%94%a5night-of-breakthrough%f0%9f%94%a5%f0%9f%94%a5%f0%9f%94%a5/
LOCATION:Vosloorus Civic Centre\, 1346 Khoza Street\, Vosloorus\, Gauteng\, 1475\, South Africa
ATTACH;FMTTYPE=image/webp:https://luthandogogelaministries.com/wp-content/uploads/2025/08/Night_OF_Breakthrough.avif
ORGANIZER;CN="Luthando Gogela":MAILTO:luthando@luthandogogelaministries.com
END:VEVENT
BEGIN:VEVENT
DTSTART;TZID=Africa/Johannesburg:20250807T180000
DTEND;TZID=Africa/Johannesburg:20250807T210000
DTSTAMP:20260419T180334
CREATED:20250807T121536Z
LAST-MODIFIED:20250807T121536Z
UID:1613-1754589600-1754600400@luthandogogelaministries.com
SUMMARY:🔥🔥🔥 Miracle Service 🔥🔥🔥
DESCRIPTION:Come and experience the power of God’s presence at our Miracle Service in East London. It’s more than an event — it’s a movement of healing\, deliverance\, and revival. \nAll are welcome — bring a friend\, your faith\, and your expectation! \n📞 WhatsApp for info: 083 230 7886
URL:https://luthandogogelaministries.com/event/%f0%9f%94%a5%f0%9f%94%a5%f0%9f%94%a5-miracle-service-%f0%9f%94%a5%f0%9f%94%a5%f0%9f%94%a5-4/
LOCATION:Border Cricket\, 3 Buffalo Park Drive\, Arcadia\, East London\, Eastern Cape\, 5201\, South Africa
ATTACH;FMTTYPE=image/webp:https://luthandogogelaministries.com/wp-content/uploads/2025/08/🔥🔥🔥-Miracle-Service-🔥🔥🔥.avif
ORGANIZER;CN="Luthando Gogela":MAILTO:luthando@luthandogogelaministries.com
END:VEVENT
BEGIN:VEVENT
DTSTART;TZID=Africa/Johannesburg:20250804T200000
DTEND;TZID=Africa/Johannesburg:20250804T210000
DTSTAMP:20260419T180334
CREATED:20250716T164443Z
LAST-MODIFIED:20250716T164547Z
UID:1546-1754337600-1754341200@luthandogogelaministries.com
SUMMARY:🔥🔥🔥the-season-of-breakthrough-live-stream🔥🔥🔥
DESCRIPTION:Join us every Monday at 8PM (SAST) for “The Season of Breakthrough” — a powerful livestream filled with worship\, prayer\, and prophetic teaching. This is your time for renewal\, healing\, and spiritual breakthrough.\n\n📍 Watch Live On:\n\n\nFacebook: facebook.com/luthando.gogela.2025\n\n\nYouTube: youtube.com/@pastorluthandogogela\n\n\n📞 Call During the Stream:\n010 101 1816\n📲 WhatsApp Call Line: 083 230 7886\nChat with Us on WhatsApp\n🕊️ “The season has shifted — step into your breakthrough!”
URL:https://luthandogogelaministries.com/event/%f0%9f%94%a5%f0%9f%94%a5%f0%9f%94%a5the-season-of-breakthrough-live-stream%f0%9f%94%a5%f0%9f%94%a5%f0%9f%94%a5-2/
LOCATION:Eastern Cape
ATTACH;FMTTYPE=image/webp:https://luthandogogelaministries.com/wp-content/uploads/2025/07/Live_Stream_Poster.avif
END:VEVENT
BEGIN:VEVENT
DTSTART;TZID=Africa/Johannesburg:20250728T200000
DTEND;TZID=Africa/Johannesburg:20250728T210000
DTSTAMP:20260419T180334
CREATED:20250716T164253Z
LAST-MODIFIED:20250716T164253Z
UID:1544-1753732800-1753736400@luthandogogelaministries.com
SUMMARY:🔥🔥🔥the-season-of-breakthrough-live-stream🔥🔥🔥
DESCRIPTION:Join us every Monday at 8PM (SAST) for “The Season of Breakthrough” — a powerful livestream filled with worship\, prayer\, and prophetic teaching. This is your time for renewal\, healing\, and spiritual breakthrough.\n\n📍 Watch Live On:\n\n\nFacebook: facebook.com/luthando.gogela.2025\n\n\nYouTube: youtube.com/@pastorluthandogogela\n\n\n📞 Call During the Stream:\n010 101 1816\n📲 WhatsApp Call Line: 083 230 7886\nChat with Us on WhatsApp\n🕊️ “The season has shifted — step into your breakthrough!”
URL:https://luthandogogelaministries.com/event/%f0%9f%94%a5%f0%9f%94%a5%f0%9f%94%a5the-season-of-breakthrough-live-stream%f0%9f%94%a5%f0%9f%94%a5%f0%9f%94%a5/
LOCATION:Eastern Cape
ATTACH;FMTTYPE=image/webp:https://luthandogogelaministries.com/wp-content/uploads/2025/07/Live_Stream_Poster.avif
END:VEVENT
BEGIN:VEVENT
DTSTART;TZID=Africa/Johannesburg:20250724T180000
DTEND;TZID=Africa/Johannesburg:20250724T210000
DTSTAMP:20260419T180334
CREATED:20250723T173819Z
LAST-MODIFIED:20250723T173819Z
UID:1567-1753380000-1753390800@luthandogogelaministries.com
SUMMARY:🔥🔥🔥 Miracle Service 🔥🔥🔥
DESCRIPTION:Come and experience the power of God’s presence at our Miracle Service in East London. It’s more than an event — it’s a movement of healing\, deliverance\, and revival. \nAll are welcome — bring a friend\, your faith\, and your expectation! \n📞 WhatsApp for info: 083 230 7886
URL:https://luthandogogelaministries.com/event/%f0%9f%94%a5%f0%9f%94%a5%f0%9f%94%a5-miracle-service-%f0%9f%94%a5%f0%9f%94%a5%f0%9f%94%a5-2/
LOCATION:Border Cricket\, 3 Buffalo Park Drive\, Arcadia\, East London\, Eastern Cape\, 5201\, South Africa
ATTACH;FMTTYPE=image/webp:https://luthandogogelaministries.com/wp-content/uploads/2025/07/Miracle_Service_July.avif
ORGANIZER;CN="Luthando Gogela":MAILTO:luthando@luthandogogelaministries.com
END:VEVENT
BEGIN:VEVENT
DTSTART;TZID=Africa/Johannesburg:20250721T200000
DTEND;TZID=Africa/Johannesburg:20250721T210000
DTSTAMP:20260419T180334
CREATED:20250716T163017Z
LAST-MODIFIED:20250716T163757Z
UID:1540-1753128000-1753131600@luthandogogelaministries.com
SUMMARY:🔥🔥the-season-of-breakthrough-live-stream🔥🔥
DESCRIPTION:Join us every Monday at 8PM (SAST) for “The Season of Breakthrough” — a powerful livestream filled with worship\, prayer\, and prophetic teaching. This is your time for renewal\, healing\, and spiritual breakthrough.\n\n📍 Watch Live On:\n\n\nFacebook: facebook.com/luthando.gogela.2025\n\n\nYouTube: youtube.com/@pastorluthandogogela\n\n\n📞 Call During the Stream:\n010 101 1816\n📲 WhatsApp Call Line: 083 230 7886\nChat with Us on WhatsApp\n🕊️ “The season has shifted — step into your breakthrough!”
URL:https://luthandogogelaministries.com/event/%f0%9f%94%a5%f0%9f%94%a5the-season-of-breakthrough-live-stream%f0%9f%94%a5%f0%9f%94%a5-2/
LOCATION:Eastern Cape
ATTACH;FMTTYPE=image/webp:https://luthandogogelaministries.com/wp-content/uploads/2025/07/Live_Stream_Poster.avif
END:VEVENT
BEGIN:VEVENT
DTSTART;TZID=Africa/Johannesburg:20250717T180000
DTEND;TZID=Africa/Johannesburg:20250717T210000
DTSTAMP:20260419T180334
CREATED:20250716T164901Z
LAST-MODIFIED:20250716T164901Z
UID:1550-1752775200-1752786000@luthandogogelaministries.com
SUMMARY:🔥🔥🔥 Miracle Service 🔥🔥🔥
DESCRIPTION:Come and experience the power of God’s presence at our Miracle Service in East London. It’s more than an event — it’s a movement of healing\, deliverance\, and revival. \nAll are welcome — bring a friend\, your faith\, and your expectation! \n📞 WhatsApp for info: 083 230 7886
URL:https://luthandogogelaministries.com/event/%f0%9f%94%a5%f0%9f%94%a5%f0%9f%94%a5-miracle-service-%f0%9f%94%a5%f0%9f%94%a5%f0%9f%94%a5/
LOCATION:Border Cricket\, 3 Buffalo Park Drive\, Arcadia\, East London\, Eastern Cape\, 5201\, South Africa
ATTACH;FMTTYPE=image/webp:https://luthandogogelaministries.com/wp-content/uploads/2025/07/Miracle_Service.avif
ORGANIZER;CN="Luthando Gogela":MAILTO:luthando@luthandogogelaministries.com
END:VEVENT
BEGIN:VEVENT
DTSTART;TZID=Africa/Johannesburg:20250714T190000
DTEND;TZID=Africa/Johannesburg:20250714T203000
DTSTAMP:20260419T180334
CREATED:20250708T154246Z
LAST-MODIFIED:20250708T155156Z
UID:1480-1752519600-1752525000@luthandogogelaministries.com
SUMMARY:🔥🔥The Season Of Breakthrough Live Stream🔥🔥
DESCRIPTION:Join us every Monday at 7PM (SAST) for “The Season of Breakthrough” — a powerful livestream filled with worship\, prayer\, and prophetic teaching. This is your time for renewal\, healing\, and spiritual breakthrough.\n\n📍 Watch Live On:\n\n\nFacebook: facebook.com/luthando.gogela.2025\n\n\nYouTube: youtube.com/@pastorluthandogogela\n\n\n📞 Call During the Stream:\n010 101 1816\n📲 WhatsApp Call Line: 083 230 7886\nChat with Us on WhatsApp\n🕊️ “The season has shifted — step into your breakthrough!”
URL:https://luthandogogelaministries.com/event/%f0%9f%94%a5%f0%9f%94%a5the-season-of-breakthrough-live-stream%f0%9f%94%a5%f0%9f%94%a5/
LOCATION:Eastern Cape
ATTACH;FMTTYPE=image/webp:https://luthandogogelaministries.com/wp-content/uploads/2025/07/IMG-20250630-WA0013.avif
END:VEVENT
BEGIN:VEVENT
DTSTART;TZID=Africa/Johannesburg:20250710T180000
DTEND;TZID=Africa/Johannesburg:20250710T210000
DTSTAMP:20260419T180334
CREATED:20250708T105954Z
LAST-MODIFIED:20250708T155513Z
UID:1476-1752170400-1752181200@luthandogogelaministries.com
SUMMARY:🔥 Miracle Service
DESCRIPTION:Come and experience the power of God’s presence at our Miracle Service in East London. It’s more than an event — it’s a movement of healing\, deliverance\, and revival. \nAll are welcome — bring a friend\, your faith\, and your expectation! \n📞 WhatsApp for info: 083 230 7886
URL:https://luthandogogelaministries.com/event/%f0%9f%94%a5-miracle-service/
LOCATION:Border Cricket\, 3 Buffalo Park Drive\, Arcadia\, East London\, Eastern Cape\, 5201\, South Africa
ATTACH;FMTTYPE=image/webp:https://luthandogogelaministries.com/wp-content/uploads/2025/07/East-London-Miracle-service.avif
ORGANIZER;CN="Luthando Gogela":MAILTO:luthando@luthandogogelaministries.com
END:VEVENT
BEGIN:VEVENT
DTSTART;TZID=Africa/Johannesburg:20250703T180000
DTEND;TZID=Africa/Johannesburg:20250703T210000
DTSTAMP:20260419T180334
CREATED:20250701T180216Z
LAST-MODIFIED:20250705T073706Z
UID:809-1751565600-1751576400@luthandogogelaministries.com
SUMMARY:🔥 Breaking Chains
DESCRIPTION:Come and experience the power of God’s presence at our Breaking Chains Outreach in East London. It’s more than an event — it’s a movement of healing\, deliverance\, and revival. \nAll are welcome — bring a friend\, your faith\, and your expectation! \n📞 WhatsApp for info: 082 451 1926
URL:https://luthandogogelaministries.com/event/%f0%9f%94%a5-breaking-chains/
LOCATION:Border Cricket\, 3 Buffalo Park Drive\, Arcadia\, East London\, Eastern Cape\, 5201\, South Africa
ATTACH;FMTTYPE=image/webp:https://luthandogogelaministries.com/wp-content/uploads/2025/07/Breaking_Chains.webp
ORGANIZER;CN="Luthando Gogela":MAILTO:luthando@luthandogogelaministries.com
END:VEVENT
END:VCALENDAR